BEGIN:VCALENDAR
VERSION:2.0
PRODID:-//World Trade Center Miami - ECPv6.15.18//NONSGML v1.0//EN
CALSCALE:GREGORIAN
METHOD:PUBLISH
X-WR-CALNAME:World Trade Center Miami
X-ORIGINAL-URL:https://www.wtcmiami.org
X-WR-CALDESC:Events for World Trade Center Miami
REFRESH-INTERVAL;VALUE=DURATION:PT1H
X-Robots-Tag:noindex
X-PUBLISHED-TTL:PT1H
BEGIN:VTIMEZONE
TZID:UTC
BEGIN:STANDARD
TZOFFSETFROM:+0000
TZOFFSETTO:+0000
TZNAME:UTC
DTSTART:20240101T000000
END:STANDARD
END:VTIMEZONE
BEGIN:VTIMEZONE
TZID:America/New_York
BEGIN:DAYLIGHT
TZOFFSETFROM:-0500
TZOFFSETTO:-0400
TZNAME:EDT
DTSTART:20230312T070000
END:DAYLIGHT
BEGIN:STANDARD
TZOFFSETFROM:-0400
TZOFFSETTO:-0500
TZNAME:EST
DTSTART:20231105T060000
END:STANDARD
BEGIN:DAYLIGHT
TZOFFSETFROM:-0500
TZOFFSETTO:-0400
TZNAME:EDT
DTSTART:20240310T070000
END:DAYLIGHT
BEGIN:STANDARD
TZOFFSETFROM:-0400
TZOFFSETTO:-0500
TZNAME:EST
DTSTART:20241103T060000
END:STANDARD
BEGIN:DAYLIGHT
TZOFFSETFROM:-0500
TZOFFSETTO:-0400
TZNAME:EDT
DTSTART:20250309T070000
END:DAYLIGHT
BEGIN:STANDARD
TZOFFSETFROM:-0400
TZOFFSETTO:-0500
TZNAME:EST
DTSTART:20251102T060000
END:STANDARD
END:VTIMEZONE
BEGIN:VEVENT
DTSTART;TZID=UTC:20250711T110000
DTEND;TZID=UTC:20250711T160000
DTSTAMP:20260420T173912
CREATED:20250306T190649Z
LAST-MODIFIED:20250710T172829Z
UID:10000118-1752231600-1752249600@www.wtcmiami.org
SUMMARY:State of the Ports / Tabletop Business Expo
DESCRIPTION:State of the Ports / Tabletop Business Expo \nA World Trade Center Miami Signature Event\, the annual State of the Ports Luncheon Presentation has been a staple of the WTCM’s programming for over three decades. In the presence of multiple hundreds of community leaders and business executives\, the CEO’s of Miami International Airport (MIA) and PortMiami present the respective performances of their ports in terms of travel and trade statistics\, as well as provide news on the capital improvement programs and infrastructure investments at Miami Dade County’s leading economic generators. MIA is the nation’s second-leading international passenger gateway and the leading international cargo airport. PortMiami is the leading cruise port in the world and a global cargo gateway. \nJoin us July 11th\, 2025 at the Hilton Miami Airport Hotel! \nComplimentary Parking Included \n**Purchase of Tabletop includes ONE Ticket to attend the Luncheon Reception** \nFor more Information\, Please Click Here: https://www.wtcmiami.org/annual-state-of-the-ports-luncheon/ \nWTCM Members: \nContact Robert Hernandez at 305-710-7008 or rhernandez@wtcmiami.org to receive your WTCM Member Discount Code.
URL:https://www.wtcmiami.org/event/state-of-the-ports-tabletop-business-expo/
LOCATION:Hilton Blue Lagoon\, 5101 Waterford District Dr\, Miami\, FL\, 33126\, United States
CATEGORIES:Events
ATTACH;FMTTYPE=image/webp:https://www.wtcmiami.org/wp-content/uploads/2025/05/State-of-the-Ports-Banner-1-1-scaled.webp
END:VEVENT
BEGIN:VEVENT
DTSTART;TZID=UTC:20250307T110000
DTEND;TZID=UTC:20250307T140000
DTSTAMP:20260420T173912
CREATED:20241002T023313Z
LAST-MODIFIED:20250128T183008Z
UID:10000112-1741345200-1741356000@www.wtcmiami.org
SUMMARY:International Women's Achievement Award
DESCRIPTION:Join us in celebrating the 21st Annual International Women’s Achievement Award on March 7\, 2025. Since 2004\, the World Trade Center Miami has proudly sponsored this event to honor women who have made significant contributions to international business and trade. This prestigious award recognizes exemplary leadership\, the advancement of global relations\, and fostering economic development by creating and supporting jobs. \nThe event aligns with the United Nations’ International Women’s Day celebration\, which has highlighted women’s achievements globally since 1975. Together with South Florida’s international business community\, we are excited to honor inspiring women who have made a lasting impact on the global stage. \nDate: Friday\, March 7\, 2025\nLocation: Hilton Miami Airport Blue Lagoon \nPlease mark your calendar for this momentous occasion and register now by clicking below: \nIndividual Tickets: \n\nClick here to Register\n \nTable Package: \n\nClick here to Register
URL:https://www.wtcmiami.org/event/22nd-annual-international-womens-achievement-award/
LOCATION:Hilton Blue Lagoon\, 5101 Waterford District Dr\, Miami\, FL\, 33126\, United States
ATTACH;FMTTYPE=image/png:https://www.wtcmiami.org/wp-content/uploads/2024/10/IWD-3.png
END:VEVENT
BEGIN:VEVENT
DTSTART;TZID=America/New_York:20240605T134500
DTEND;TZID=America/New_York:20240605T164500
DTSTAMP:20260420T173912
CREATED:20240220T221649Z
LAST-MODIFIED:20240509T155220Z
UID:10000093-1717595100-1717605900@www.wtcmiami.org
SUMMARY:World Trade Month Table Top Expo
DESCRIPTION:For inquiries and registration: \nContact: Robert Hernandez | Manager\, Business Development \nrhernandez@wtcmiami.org | 305-710-7008 \n 
URL:https://www.wtcmiami.org/event/world-trade-month-table-top-expo/
LOCATION:Hilton Blue Lagoon\, 5101 Waterford District Dr\, Miami\, FL\, 33126\, United States
CATEGORIES:Events
ATTACH;FMTTYPE=image/png:https://www.wtcmiami.org/wp-content/uploads/2024/02/2024-World-Trade-Month-Table-Top-Expo-1080-x-1080-px-7.png
END:VEVENT
BEGIN:VEVENT
DTSTART;TZID=America/New_York:20240605T110000
DTEND;TZID=America/New_York:20240605T170000
DTSTAMP:20260420T173912
CREATED:20240412T114320Z
LAST-MODIFIED:20240604T174741Z
UID:10000094-1717585200-1717606800@www.wtcmiami.org
SUMMARY:State of the Ports Luncheon
DESCRIPTION:REGISTRATION IS CLOSED\n					 \n  \n11:00 AM Registration12 PM – 1:45 PM – Lunch & Program \n  \n 
URL:https://www.wtcmiami.org/event/state-of-the-ports-luncheon/
LOCATION:Hilton Blue Lagoon\, 5101 Waterford District Dr\, Miami\, FL\, 33126\, United States
CATEGORIES:Events
ATTACH;FMTTYPE=image/jpeg:https://www.wtcmiami.org/wp-content/uploads/2024/04/State-of-the-Ports-website-flyer-.jpg
END:VEVENT
END:VCALENDAR