BEGIN:VCALENDAR
VERSION:2.0
PRODID:-//World Trade Center Miami - ECPv6.15.18//NONSGML v1.0//EN
CALSCALE:GREGORIAN
METHOD:PUBLISH
X-ORIGINAL-URL:https://www.wtcmiami.org
X-WR-CALDESC:Events for World Trade Center Miami
REFRESH-INTERVAL;VALUE=DURATION:PT1H
X-Robots-Tag:noindex
X-PUBLISHED-TTL:PT1H
BEGIN:VTIMEZONE
TZID:America/New_York
BEGIN:DAYLIGHT
TZOFFSETFROM:-0500
TZOFFSETTO:-0400
TZNAME:EDT
DTSTART:20180311T070000
END:DAYLIGHT
BEGIN:STANDARD
TZOFFSETFROM:-0400
TZOFFSETTO:-0500
TZNAME:EST
DTSTART:20181104T060000
END:STANDARD
BEGIN:DAYLIGHT
TZOFFSETFROM:-0500
TZOFFSETTO:-0400
TZNAME:EDT
DTSTART:20190310T070000
END:DAYLIGHT
BEGIN:STANDARD
TZOFFSETFROM:-0400
TZOFFSETTO:-0500
TZNAME:EST
DTSTART:20191103T060000
END:STANDARD
BEGIN:DAYLIGHT
TZOFFSETFROM:-0500
TZOFFSETTO:-0400
TZNAME:EDT
DTSTART:20200308T070000
END:DAYLIGHT
BEGIN:STANDARD
TZOFFSETFROM:-0400
TZOFFSETTO:-0500
TZNAME:EST
DTSTART:20201101T060000
END:STANDARD
END:VTIMEZONE
BEGIN:VEVENT
DTSTART;TZID=America/New_York:20190531T120000
DTEND;TZID=America/New_York:20190531T140000
DTSTAMP:20260425T172111
CREATED:20200424T232132Z
LAST-MODIFIED:20200424T232132Z
UID:10000031-1559304000-1559311200@www.wtcmiami.org
SUMMARY:7th Annual World Trade Week Luncheon
DESCRIPTION:This year’s 7th Annual Florida World Trade Month Luncheon will focus on the theme of “World Class in the WorldCity”. In addition\, WorldCity will be releasing their 18th Annual Miami Trade Numbers publication. Network with 300 international business executives.\n \nFee: Regular Admission: $100 person/ Members & Corporate Sponsors: Free / Corporate table: $650\nContact: Ken Roberts\, Publisher\, WorldCity\nPhone: 305-441-2244\nMore Info: https://www.floridaworldtrademonth.com/sites/default/files/PDF/2019-WTM_WorldCity.pdf\n\n[su_button url=”https://www.worldcityweb.com/event/world-trade-month-miami-tradenumbers-release” target=”blank” size=”10″]Event Registration[/su_button]
URL:https://www.wtcmiami.org/event/7th-annual-world-trade-week-luncheon/
LOCATION:InterContinental at Doral Miami\, 2505 NW 87th Ave.\, Doral\, FL\, 33172\, United States
CATEGORIES:Events,Prior Events - Archives
ATTACH;FMTTYPE=:
END:VEVENT
END:VCALENDAR